BEGIN:VCALENDAR
X-LOTUS-CHARSET:UTF-8
VERSION:2.0
PRODID:ZMS-Berlin
METHOD:PUBLISH
BEGIN:VEVENT
UID:zukunft-aus-brandenburg-1146
CLASS:PUBLIC
DTSTAMP:20260421T202346
DTSTART;TZID=Europe/Berlin:2026-06-23T08:00:00
DTEND;TZID=Europe/Berlin:2026-06-23T08:00:00
LOCATION:
SUMMARY:The smarter E Europe 2026 | Gemeinschaftsstand der Hauptstadtregion
DESCRIPTION:Innovationen aus der Hauptstadtregion Berlin-Brandenburg im Mittelpunkt

END:VEVENT
END:VCALENDAR
