BEGIN:VCALENDAR
X-LOTUS-CHARSET:UTF-8
VERSION:2.0
PRODID:ZMS-Berlin
METHOD:PUBLISH
BEGIN:VEVENT
UID:zukunft-aus-brandenburg-1486
CLASS:PUBLIC
DTSTAMP:20260421T202345
DTSTART;TZID=Europe/Berlin:2025-11-24T10:00:00
DTEND;TZID=Europe/Berlin:2025-11-24T10:00:00
LOCATION:
SUMMARY:Transfer Week Berlin-Brandenburg 2025
DESCRIPTION:Die Transfer Week vernetzt Wissenschaft, Wirtschaft und Start-ups in der Hauptstadtregion, um Innovationen voranzutreiben und Kooperationen zu fördern. Geboten werden spannende Konferenzen, Matchmaking, Partner-Events und vielfältige Möglichkeiten zum Austausch.

END:VEVENT
END:VCALENDAR
