BEGIN:VCALENDAR
X-LOTUS-CHARSET:UTF-8
VERSION:2.0
PRODID:ZMS-Berlin
METHOD:PUBLISH
BEGIN:VEVENT
UID:zukunft-aus-brandenburg-1720
CLASS:PUBLIC
DTSTAMP:20260421T202345
DTSTART;TZID=Europe/Berlin:2026-03-05T11:00:00
DTEND;TZID=Europe/Berlin:2026-03-05T11:00:00
LOCATION:Babelsberger Straße 21, 14473, Potsdam, DE, ILB Potsdam, AG 001,
SUMMARY:Transfer im Gespräch 2026 | Digitalisierung - Schlüsseltechnologien - Deeptech
DESCRIPTION:Impulse für den Technologietransfer in Berlin und Brandenburg

END:VEVENT
END:VCALENDAR
